BEGIN:VCALENDAR
PRODID:NingEventWidget-v1
VERSION:2.0
METHOD:PUBLISH
BEGIN:VEVENT
UID:4320450:Event:39815
DTSTAMP:20260425T161733Z
SUMMARY:Pre-Valentine's Day Makeover!
DESCRIPTION:Before Valentine's Day spoil yourselves at Le Rêve, Ritte
 nhouse Square's newest posh day spa! The night of pampering begins on 
 Friday, February 6th from 5:00PM until 10:00PM with the \"Kamasutra Pa
 ckage for Two\". Treat your special someone to an evening at the spa; 
 soothing sounds and music invite you to relax and savor the moment! Bu
 t this package isn't just for the ladies - this event is guy-friendly 
 too! While that special someone gets spoiled we are offering the gentl
 emen a complimentary 15-min massage!\nYour evening includes:\n-A glass
  of Champagne\n-Chocolate & Strawberries Desert Assortment\n-Brazilian
  Love Bikini Wax \n-Manicure with Red Nail Polish (or your choice of 
 color)\n-\"Go Couture\" Red Glitter Love Tattoo\n-15 min back and neck
  massage for the guys\nThis will be an incredibly relaxing and luxurio
 us event! Treat yourself and your special someone to an evening of sel
 f-indulgence! Relax, restore, and rejuvenate the senses. Get your tick
 ets today!\n* Professional photographer on-site if you wanted a couple
 s photo. Price based on time and amount of photos.\n\n\n\nFor more inf
 ormation visit http://phillytodo.com/events/pre-valentine-s-day-makeov
 er
DTSTART:20150206T220000Z
DTEND:20150207T030000Z
CATEGORIES:spa, day
LOCATION:Le Reve Rittenhouse Spa
WEBSITE:http://www.upcomingevents.com/e/pre-valentines-day-makeover-21
 401/?ref=ptodo
URL:http://www.upcomingevents.com/e/pre-valentines-day-makeover-21401/
 ?ref=ptodo
CONTACT:(215) 790-4444
ORGANIZER;CN="UpcomingEvents.com":http://phillytodo.com/profile/Upcomi
 ngEventscom
ATTACH;FMTTYPE="image/jpeg":http://storage.ning.com/topology/rest/1.0/
 file/get/3054987352?profile=original
ATTENDEE;ROLE=REQ-PARTICIPANT;PARTSTAT=ACCEPTED;RSVP=TRUE;CN="Upcoming
 Events.com":http://phillytodo.com/profile/UpcomingEventscom
END:VEVENT
END:VCALENDAR
