BEGIN:VCALENDAR
PRODID:NingEventWidget-v1
VERSION:2.0
METHOD:PUBLISH
BEGIN:VEVENT
UID:4320450:Event:41426
DTSTAMP:20260425T191324Z
SUMMARY:Poultry Butchering with Master Butcher Bryan Mayer
DESCRIPTION:Registration Required. Bryan Mayer returns to the Greensgr
 ow Community Kitchen to show you the ins and outs of breaking down a c
 hicken. Everyone will get a chicken to butcher in class and take home.
  Our master butcher will walk you through the butchering process as yo
 u follow along; from start through the classic cuts. We'll show you ho
 w to debone a chicken as well.\n\nBryan is extremely knowledgeable abo
 ut butchering and animal welfare issues. We’ll discuss the importanc
 e of starting out with a healthy bird, and navigate the world of food 
 labeling terminology. Butchering can help us appreciate and understand
  what we are eating more fully. Quality meat also translates into bett
 er, more complex flavors on the table.\n\nThis is an easy technique to
  master that can save you money at the market-it’s always cheaper to
  buy whole birds. We’ll learn great techniques for taking advantage 
 of the entire bird and one of the most important aspects of butchering
 : how to maintain a sharp knife and how to determine what knife to use
 .\nBryan writes the Ask Your Butcher column on foodrepublic.com and is
  founder, former owner of Kensington Quarters right here in the neighb
 orhood and was Head-Butcher at Fleisher's Grass-Fed and Organic Meats 
 in NY.\n\nFor more information visit http://phillytodo.com/events/poul
 try-butchering-with-master-butcher-bryan-mayer
DTSTART:20151024T160000Z
DTEND:20151024T183000Z
CATEGORIES:workshop
LOCATION:Greensgrow Community Kitchen at St. Michael's Lutheran Church
WEBSITE:http://www.greensgrow.org/?p=12202
URL:http://www.greensgrow.org/?p=12202
CONTACT:267.283.6787
ORGANIZER;CN="Greensgrow Farms":http://phillytodo.com/profile/Greensgr
 owFarms
ATTACH;FMTTYPE="image/jpeg":
ATTENDEE;ROLE=REQ-PARTICIPANT;PARTSTAT=ACCEPTED;RSVP=TRUE;CN="Greensgr
 ow Farms":http://phillytodo.com/profile/GreensgrowFarms
END:VEVENT
END:VCALENDAR
