BEGIN:VCALENDAR
PRODID:NingEventWidget-v1
VERSION:2.0
METHOD:PUBLISH
BEGIN:VEVENT
UID:4320450:Event:54952
DTSTAMP:20260425T144149Z
SUMMARY:Post-NKT International Festival Day Retreat on Emptiness
DESCRIPTION:On this day, we will receive a transmission of the main po
 ints that were given at the NKT International Festival in England earl
 ier in the week.\nEmptiness is not nothingness, but is the real way in
  which things exist. Buddha taught all of our problems come from not u
 nderstanding the true nature of things. He said that all of his teachi
 ngs were actually methods to realize emptiness, the true nature of all
  phenomena. When we realize emptiness all our suffering will permanent
 ly cease, in the same way in which when we awaken from a dream, all su
 ffering from the dream simply disappears.\nWe will receive teachings a
 nd be guided in practical meditations on emptiness. These will help us
  to have a clear understanding of emptiness that we can use to relax o
 ur mind, see people in a more positive light, and ultimately attain th
 e lasting happiness of enlightenment.\nTaught by Resident Teacher, Gen
  Tenzin. Everyone is welcome.\nSchedule:11:00am-2:00pm\n\n$20\n\nFor m
 ore information visit http://phillytodo.com/events/post-nkt-internatio
 nal-festival-day-retreat-on-emptiness
DTSTART:20180616T150000Z
DTEND:20180616T180000Z
CATEGORIES:meditation, buddhism, mindfulness, wellness, buddhist
LOCATION:Kadampa Meditation Center Philadelphia
WEBSITE:http://www.meditationinphiladelphia.org/post-nkt-international
 -festival-day-retreat-on-emptiness-june-16-new-date/
URL:http://www.meditationinphiladelphia.org/post-nkt-international-fes
 tival-day-retreat-on-emptiness-june-16-new-date/
CONTACT:2677023817
ORGANIZER;CN="Education Program Coordinator":http://phillytodo.com/pro
 file/EducationProgramCoordinator
ATTACH;FMTTYPE="image/jpeg":http://storage.ning.com/topology/rest/1.0/
 file/get/3055011654?profile=original
ATTENDEE;ROLE=REQ-PARTICIPANT;PARTSTAT=ACCEPTED;RSVP=TRUE;CN="Educatio
 n Program Coordinator":http://phillytodo.com/profile/EducationProgramC
 oordinator
END:VEVENT
END:VCALENDAR
