BEGIN:VCALENDAR
PRODID:NingEventWidget-v1
VERSION:2.0
METHOD:PUBLISH
BEGIN:VEVENT
UID:4320450:Event:46748
DTSTAMP:20260425T142535Z
SUMMARY:Post-DNC Dance Party
DESCRIPTION:Get out those red, white and blue dancing shoes! South Str
 eet Headhouse District and Society Hill Dance Academy present a Post-D
 NC Dance Party on Friday, July 29, 2016 from 7:00pm to 10:00pm. The Bl
 ackBird Society Orchestra will have everyone swinging under the Headho
 use Shambles (200 Pine Street) with familiar tunes from the early jazz
  age. After a week of all politics, this will be the perfect time to h
 ead to one of America's most famous streets and let loose! Food and dr
 ink will be available for purchase from local restaurants. The event i
 s free and open to the public - all ages welcome. Rain or shine. SSHD 
 will be collecting donations for Project Home and the Philadelphia Dan
 ce Foundation. For more info, visit http://southstreet.com/dnc-dance/\
 n\nFor more information visit http://phillytodo.com/events/post-dnc-da
 nce-party
DTSTART:20160719T220000Z
DTEND:20160719T230000Z
CATEGORIES:dance, party
LOCATION:The Headhouse Shambles
WEBSITE:http://southstreet.com/dnc-dance/
URL:http://southstreet.com/dnc-dance/
CONTACT:215.413.3713
ORGANIZER;CN="Aversa PR & Events":http://phillytodo.com/profile/KoryAv
 ersa277
ATTACH;FMTTYPE="image/jpeg":http://storage.ning.com/topology/rest/1.0/
 file/get/3054995735?profile=original
ATTENDEE;ROLE=REQ-PARTICIPANT;PARTSTAT=ACCEPTED;RSVP=TRUE;CN="Aversa P
 R & Events":http://phillytodo.com/profile/KoryAversa277
END:VEVENT
END:VCALENDAR
