BEGIN:VCALENDAR
PRODID:NingEventWidget-v1
VERSION:2.0
METHOD:PUBLISH
BEGIN:VEVENT
UID:4320450:Event:688
DTSTAMP:20260425T141343Z
SUMMARY:Positano Coast is Turning 5!
DESCRIPTION:Join us from 10pm-2am on Saturday, January 16, 2010 for Po
 sitano Coast's 5 Year Anniversary Celebration Event. Join us at the ba
 r for no cover, live DJ and happy hour type specials for everyone.\n\n
 For more information visit http://phillytodo.com/events/positano-coast
 -is-turning-5
DTSTART:20100117T030000Z
DTEND:20100117T070000Z
CATEGORIES:5, year, anniversary, celebration, event
LOCATION:Positano Coast by Aldo Lamberti
WEBSITE:http://www.positanocoast.net
URL:http://www.positanocoast.net
CONTACT:215-238-0499
ORGANIZER;CN="Positano Coast by Aldo Lamberti":http://phillytodo.com/p
 rofile/PositanoCoastbyAldoLamberti
ATTACH;FMTTYPE="image/jpeg":
ATTENDEE;ROLE=REQ-PARTICIPANT;PARTSTAT=ACCEPTED;RSVP=TRUE;CN="Positano
  Coast by Aldo Lamberti":http://phillytodo.com/profile/PositanoCoastby
 AldoLamberti
END:VEVENT
END:VCALENDAR
