BEGIN:VCALENDAR
PRODID:NingEventWidget-v1
VERSION:2.0
METHOD:PUBLISH
BEGIN:VEVENT
UID:4320450:Event:36495
DTSTAMP:20260425T144438Z
SUMMARY:Portuguese Heritage Festival
DESCRIPTION:The 21st annual Philadelphia Portuguese Heritage Festival 
 is designed to bring attention to the Portuguese-American immigrant’
 s contributions to the city of Philadelphia. A variety of traditional 
 foods and Portuguese wines will be available for sampling and for purc
 hase. Revolutionary art, folklore dance groups, international music, a
 nd the traditional blessing of the fleet aboard the Tall Ship Gazela w
 ill help Philadelphians learn and celebrate Portuguese culture.\n\nFor
  more information visit http://phillytodo.com/events/portuguese-herita
 ge-festival
DTSTART:20140615T170000Z
DTEND:20140615T230000Z
CATEGORIES:festival, waterfront
LOCATION:Great Plaza at Penn's Landing
WEBSITE:http://www.delawareriverwaterfront.com/events/portuguese-festi
 val-2
URL:http://www.delawareriverwaterfront.com/events/portuguese-festival-
 2
CONTACT:215-922-2386
ORGANIZER;CN="Delaware River Waterfront Corp.":http://phillytodo.com/p
 rofile/DelawareRiverWaterfrontCorp
ATTACH;FMTTYPE="image/jpeg":http://storage.ning.com/topology/rest/1.0/
 file/get/3054975642?profile=original
ATTENDEE;ROLE=REQ-PARTICIPANT;PARTSTAT=ACCEPTED;RSVP=TRUE;CN="Delaware
  River Waterfront Corp.":http://phillytodo.com/profile/DelawareRiverWa
 terfrontCorp
END:VEVENT
END:VCALENDAR
