BEGIN:VCALENDAR
PRODID:NingEventWidget-v1
VERSION:2.0
METHOD:PUBLISH
BEGIN:VEVENT
UID:4320450:Event:42105
DTSTAMP:20260425T142550Z
SUMMARY:Pope Pub Crawl
DESCRIPTION:Philadelphia’s most iconic bars are celebrating the arri
 val of the “People’s Pope” the best way they know how – by thr
 owing the ultimate “Pope Pub Crawl”! Kicking off at noon on Saturd
 ay, September 26 and running until 8 PM, more than 20 pubs and restaur
 ants are coming together for the ultimate citywide, bar hopping excurs
 ion that will span five neighborhoods.Here is what's included as part 
 of the \"Pope Pub Crawl\":First drink free courtesy of Miller Lite & T
 ito's VodkaDiscounted beer, mixed drinks, and shot specials at all par
 ticipating locationsA custom \"crawl map\" displaying all bars and pub
 sCODA will be hosting the official after party from 8 PM to midnight f
 eaturing drink specials all night long & DJ dance party.Already over 9
 ,000 RSVP's on the Facebook event - JOIN US! (see above)Can't make it 
 at noon? No problem! Start at any time at a “starting location” (t
 hise locations below marked with **). Tickets are just $10 or $5 for g
 roups of five or more people. However, you must check in at one of the
  “starting locations” listed below to get your wristband and first
  free drink.LADDER 15, Raven Lounge, Drinker’s Pub, Irish Pub (22nd 
 Street), Cavanaugh’s Rittenhouse, Green Room, Urban Saloon, Barra, B
 -Side, Buffalo Billiards, Tavern on Broad, Valanni, Tir Na Nog, Irish 
 Pub (12th Street), Cavanaugh’s Head House, Paddy Whack’s, Lucky St
 rike Bowling Lanes, Westy's, Nick's Roast Beef Bar & Grille and Wooly 
 Mammoth’s. All bars are within walking distance.Check-In Locations:
 • Cavanaugh's Rittenhouse (Rittenhouse)• Cavanaugh's Headhouse (S
 outh Street)• Buffalo Billiards (Old City)• Tavern on Broad (Cente
 r City)• Urban Saloon (Fairmount)Reserve your ticket today and becom
 e a part of Philadelphia history! A portion of all ticket sales will b
 e donated to Philabundance, a non-profit organization that reduces hun
 ger and food insecurity in the Delaware Valley by providing food acces
 s to people in need, in partnership with organizations and individuals
 .\n\nFor more information visit http://phillytodo.com/events/pope-pub-
 crawl
DTSTART:20150926T160000Z
DTEND:20150927T000000Z
CATEGORIES:pub, crawl
LOCATION:Various
WEBSITE:http://www.upcomingevents.com/e/philly-pope-crawl-2015-23828/?
 ref=ptodo
URL:http://www.upcomingevents.com/e/philly-pope-crawl-2015-23828/?ref=
 ptodo
CONTACT:
ORGANIZER;CN="UpcomingEvents.com":http://phillytodo.com/profile/Upcomi
 ngEventscom
ATTACH;FMTTYPE="image/jpeg":http://storage.ning.com/topology/rest/1.0/
 file/get/3054990609?profile=original
ATTENDEE;ROLE=REQ-PARTICIPANT;PARTSTAT=ACCEPTED;RSVP=TRUE;CN="Upcoming
 Events.com":http://phillytodo.com/profile/UpcomingEventscom
END:VEVENT
END:VCALENDAR
