BEGIN:VCALENDAR
PRODID:NingEventWidget-v1
VERSION:2.0
METHOD:PUBLISH
BEGIN:VEVENT
UID:4320450:Event:37232
DTSTAMP:20260425T161348Z
SUMMARY:Pop Up Pro Shop – Learn to Putt and Sip like the Pros
DESCRIPTION:Think you’ve got what it takes to sink a hole-in-one?  
 Join us for an all-things-golf happy hour, featuring a hole-in-one con
 test with awesome prizes, a virtual putt simulator with personalized t
 ips from the pros, a cocktail lounge and more! RSVP to lindsey@cashman
 andassociates.com.\n\nFor more information visit http://phillytodo.com
 /events/pop-up-pro-shop-learn-to-putt-and-sip-like-the-pros
DTSTART:20140624T210000Z
DTEND:20140624T230000Z
CATEGORIES:pop-up, shop
LOCATION:The Market & Shops at Comcast Center
WEBSITE:https://www.facebook.com/events/699228123446292/
URL:https://www.facebook.com/events/699228123446292/
CONTACT:215-627-1060
ORGANIZER:The Market & Shops at Comcast Center and T-Squared
ATTACH;FMTTYPE="image/jpeg":http://storage.ning.com/topology/rest/1.0/
 file/get/3054975896?profile=original
ATTENDEE;ROLE=REQ-PARTICIPANT;PARTSTAT=ACCEPTED;RSVP=TRUE;CN=CashmanAs
 soc:http://phillytodo.com/profile/CashmanAssoc
END:VEVENT
END:VCALENDAR
