BEGIN:VCALENDAR
PRODID:NingEventWidget-v1
VERSION:2.0
METHOD:PUBLISH
BEGIN:VEVENT
UID:4320450:Event:54776
DTSTAMP:20260425T131311Z
SUMMARY:Poi Dog Philly at Swarthmore CO-OP Food Truckathon
DESCRIPTION:The Poi Dog Philly food truck will be featured at the Swar
 thmore CO-OP Food Truckathon. Poi Dog's menu consists of Hawaiin-inspi
 red rice bowls, tacos and street food. They are also available to cate
 r luaus, birthday parties, office parties and casual weddings across P
 hiladelphia and its environs.The Swarthmore CO-OP Food Truckathon host
 s some of the most popular food trucks in the region. The festival is 
 located at the Swarthmore Co-op 341 Dartmouth Ave, Swarthmore, Pennsyl
 vania 19081\n\nFor more information visit http://phillytodo.com/events
 /poi-dog-philly-at-swarthmore-co-op-food-truckathon
DTSTART:20180420T210000Z
DTEND:20180421T010000Z
CATEGORIES:food, festival
LOCATION:Swarthmore CO-OP Food Truckathon
WEBSITE:http://www.poidogphilly.com
URL:http://www.poidogphilly.com
CONTACT:(215) 279-7015
ORGANIZER;CN="Poi Dog Philly":http://phillytodo.com/profile/PoiDogPhil
 ly
ATTACH;FMTTYPE="image/jpeg":http://storage.ning.com/topology/rest/1.0/
 file/get/3055010559?profile=original
ATTENDEE;ROLE=REQ-PARTICIPANT;PARTSTAT=ACCEPTED;RSVP=TRUE;CN="Poi Dog 
 Philly":http://phillytodo.com/profile/PoiDogPhilly
END:VEVENT
END:VCALENDAR
