BEGIN:VCALENDAR
PRODID:NingEventWidget-v1
VERSION:2.0
METHOD:PUBLISH
BEGIN:VEVENT
UID:4320450:Event:54999
DTSTAMP:20260425T130959Z
SUMMARY:Poi Dog Philly at Clover Market Chestnut Hill
DESCRIPTION:Stop by the Poi Dog Philly food truck at the Clover Market
  Chesnut Hill for a menu of Hawaii-inspired rice bowls, tacos and stre
 et food. We are also available to cater luaus, birthday parties, offic
 e parties and casual weddings across Philadelphia and its environs.The
  Clover Market Chestnut Hill is a seasonal open-air Market located at 
 25 W Highland Ave, Philadelphia PA 19118\n\nFor more information visit
  http://phillytodo.com/events/poi-dog-philly-at-clover-market-chestnut
 -hill
DTSTART:20180408T140000Z
DTEND:20180408T200000Z
CATEGORIES:food, festival
LOCATION:Clover Market Chestnut Hill
WEBSITE:http://www.poidogphilly.com
URL:http://www.poidogphilly.com
CONTACT:(215) 279-7015
ORGANIZER;CN="Poi Dog Philly":http://phillytodo.com/profile/PoiDogPhil
 ly
ATTACH;FMTTYPE="image/jpeg":http://storage.ning.com/topology/rest/1.0/
 file/get/3055010559?profile=original
ATTENDEE;ROLE=REQ-PARTICIPANT;PARTSTAT=ACCEPTED;RSVP=TRUE;CN="Poi Dog 
 Philly":http://phillytodo.com/profile/PoiDogPhilly
END:VEVENT
END:VCALENDAR
