BEGIN:VCALENDAR
PRODID:NingEventWidget-v1
VERSION:2.0
METHOD:PUBLISH
BEGIN:VEVENT
UID:4320450:Event:45284
DTSTAMP:20260425T123415Z
SUMMARY:Poetry Reading & Talk
DESCRIPTION:Moonstone Poetry @ Brandywine Workshop and Al-Bustan Seeds
  of Culture present an evening of poetry with an audience engagement t
 alk following. The event will feature Lebanese poet, Zeina Hashem Beck
  and Philadelphia Poet Laureate, Yolanda Wisher.\n\nFor more informati
 on visit http://phillytodo.com/events/poetry-reading-talk
DTSTART:20160411T230000Z
DTEND:20160412T003000Z
CATEGORIES:poetry, reading
LOCATION:Brandywine Workshop
WEBSITE:http://brandywineworkshop.com/
URL:http://brandywineworkshop.com/
CONTACT:267-809-3668
ORGANIZER;CN="Al-Bustan Seeds of Culture":http://phillytodo.com/profil
 e/AlBustanSeedsofCulture
ATTACH;FMTTYPE="image/jpeg":http://storage.ning.com/topology/rest/1.0/
 file/get/3054996953?profile=original
ATTENDEE;ROLE=REQ-PARTICIPANT;PARTSTAT=ACCEPTED;RSVP=TRUE;CN="Al-Busta
 n Seeds of Culture":http://phillytodo.com/profile/AlBustanSeedsofCultu
 re
END:VEVENT
END:VCALENDAR
