BEGIN:VCALENDAR
PRODID:NingEventWidget-v1
VERSION:2.0
METHOD:PUBLISH
BEGIN:VEVENT
UID:4320450:Event:45705
DTSTAMP:20260425T124908Z
SUMMARY:Plein Air
DESCRIPTION:The arts come alive in Philadelphia's Garden District! Don
 't miss the Plein Air in @ChestnutHillPA\nOn Sunday, June 12th, from 1
 0:00 am to 3:00 pm more than 40 juried artists will be featured at Ple
 in Air, an inspired outdoor art competition. Jill Rupinski, an associa
 te professor at the Pennsylvania Academy of Fine Art, will serve as th
 e selection juror, and William R. Valerio, the director and CEO of the
  Woodmere Art Museum, will serve as the awards judge. Artists will pai
 nt along Germantown Avenue, also known as “Philadelphia’s Garden D
 istrict.”\nPlein Air attendees can also enjoy the Philadelphia Museu
 m of Art’s Inside/Out project, which brings eight reproductions from
  both the Philadelphia Museum of Art and the Woodmere Art Museum to th
 e sidewalks of Germantown Avenue and Bethlehem Pike. In five of those 
 locations, the Philadelphia Museum of Art and Woodmere Art Museum have
  partnered together to pair works from across the globe with artwork b
 y Philadelphia artists. Docents from Woodmere will be on site to engag
 e with visitors, stimulate conversation and answer questions about the
  artworks.\n\nFor more information visit http://phillytodo.com/events/
 plein-air-1
DTSTART:20160612T140000Z
DTEND:20160612T193000Z
CATEGORIES:art, competition
LOCATION:Chestnut Hill, PA
WEBSITE:http://www.chestnuthillpa.com
URL:http://www.chestnuthillpa.com
CONTACT:2152476696
ORGANIZER:Chestnut Hill
ATTACH;FMTTYPE="image/jpeg":http://storage.ning.com/topology/rest/1.0/
 file/get/3054995725?profile=original
ATTENDEE;ROLE=REQ-PARTICIPANT;PARTSTAT=ACCEPTED;RSVP=TRUE;CN="Bryan Ch
 an":http://phillytodo.com/profile/BryanChan
END:VEVENT
END:VCALENDAR
