BEGIN:VCALENDAR
PRODID:NingEventWidget-v1
VERSION:2.0
METHOD:PUBLISH
BEGIN:VEVENT
UID:4320450:Event:40752
DTSTAMP:20260425T124847Z
SUMMARY:Play Manayunk
DESCRIPTION:Come out and PLAY!  PLAY Manayunk, held at the brand-new 
 Venice Island Performing Arts & Recreation Center, is a celebration of
  all things recreation, fitness, and fun in Manayunk.  Start off your
  day right with the Manayunk Mile, a 1-mile fun run right along Main S
 treet starting at 8 am.  At the end of the race, make your way down t
 o the Venice Island amphitheater for the official start of PLAY Manayu
 nk.  Come dressed in your workout best and take part in a Guinness Wo
 rld Record sit-up challenge at 1 pm or our many outdoor recreation act
 ivities, including a mini-triathlon, nature walks, kayaking, dragon bo
 ating, bike rentals, dance lessons, and much more.  Bring the kids to
  our Recess area, complete with old-school kid’s games, crafts, a pe
 tting zoo, moon bounce, and face painting.  Expand your health, welln
 ess, and environmental knowledge through our lecture series, and take 
 a break to enjoy live performances and music.  Wrap up the afternoon 
 with some healthy offerings from our food trucks, and a Run to Happy H
 our event.  Have dinner and do some shopping on Main Street, and then
  head back down for Movie Night at Venice Island!Schedule:•    8 
 am - Main Street Mile (run by Pattison Sports Group).  Kid and adult 
 race down Main Street.•    10 am-4 pm – PLAY Manayunk•    
 1- 2 pm – Guinness World Records sit-up challenge (hosted by Never G
 ive Up Training)•    4 pm –  Run to Happy Hour (hosted by Phil
 ly Runner)•    8 pm – Movie night\n\nFor more information visit
  http://phillytodo.com/events/play-manayunk
DTSTART:20150516T140000Z
DTEND:20150516T200000Z
CATEGORIES:health, and, fitness, event
LOCATION:Venice Island Performing Arts and Recreation Center
WEBSITE:http://www.manayunk.com
URL:http://www.manayunk.com
CONTACT:215-482-9565
ORGANIZER;CN="Manayunk.com":http://phillytodo.com/profile/Manayunkcom
ATTACH;FMTTYPE="image/jpeg":http://storage.ning.com/topology/rest/1.0/
 file/get/3054987441?profile=original
ATTENDEE;ROLE=REQ-PARTICIPANT;PARTSTAT=ACCEPTED;RSVP=TRUE;CN="Manayunk
 .com":http://phillytodo.com/profile/Manayunkcom
END:VEVENT
END:VCALENDAR
