BEGIN:VCALENDAR
PRODID:NingEventWidget-v1
VERSION:2.0
METHOD:PUBLISH
BEGIN:VEVENT
UID:4320450:Event:696
DTSTAMP:20260425T124854Z
SUMMARY:Plants Move!
DESCRIPTION:Think a shoot can’t shoo-be-do?\nSlow down, watch carefu
 lly, and see eager sprouts dance to greet the dawn at sLowlife, a dyna
 mic multimedia exhibition that presents plants as complex, living bein
 gs.\n\nThis mesmerizing exhibit features time-lapse movies which show 
 plants as they sense and respond to their environment. The gallery-sty
 le presentation includes photographs of remarkable plants, original so
 und compositions based on plant movements, concise text, and live plan
 t material.\n\nFor more information visit http://phillytodo.com/events
 /plants-move
DTSTART:20100107T150000Z
DTEND:20100113T210000Z
CATEGORIES:museum
LOCATION:Chemical Heritage Foundation
WEBSITE:http://www.chemheritage.org/
URL:http://www.chemheritage.org/
CONTACT:215-925-2222
ORGANIZER;CN=Vivs:http://phillytodo.com/profile/Vivs
ATTACH;FMTTYPE="image/jpeg":
ATTENDEE;ROLE=REQ-PARTICIPANT;PARTSTAT=ACCEPTED;RSVP=TRUE;CN=Vivs:http
 ://phillytodo.com/profile/Vivs
END:VEVENT
END:VCALENDAR
