BEGIN:VCALENDAR
PRODID:NingEventWidget-v1
VERSION:2.0
METHOD:PUBLISH
BEGIN:VEVENT
UID:4320450:Event:41518
DTSTAMP:20260425T130927Z
SUMMARY:Plan-ta-shun: An Installation by Artist Colin Quashie
DESCRIPTION:Plan-ta-shun is an installation by contemporary artist Col
 in Quashie that uses the language and imagery of marketing and mass me
 dia to lampoon racist historical norms and challenge contemporary raci
 al and social constructs.  Quashie compels the viewer  to become the
  participant in the difficult conversations regarding race, power and 
 identity. Art is his op-ed.\n\nFor more information visit http://phill
 ytodo.com/events/plan-ta-shun-an-installation-by-artist-colin-quashie
DTSTART:20150708T040000Z
DTEND:20150817T035900Z
CATEGORIES:exhibition
LOCATION:African American Museum in Philadelphia
WEBSITE:http://www.aampmuseum.org/
URL:http://www.aampmuseum.org/
CONTACT:(215) 574-0380
ORGANIZER;CN="Skai Blue Media":http://phillytodo.com/profile/SkaiBlueM
 edia
ATTACH;FMTTYPE="image/jpeg":
ATTENDEE;ROLE=REQ-PARTICIPANT;PARTSTAT=ACCEPTED;RSVP=TRUE;CN="Skai Blu
 e Media":http://phillytodo.com/profile/SkaiBlueMedia
END:VEVENT
END:VCALENDAR
