BEGIN:VCALENDAR
PRODID:NingEventWidget-v1
VERSION:2.0
METHOD:PUBLISH
BEGIN:VEVENT
UID:4320450:Event:41357
DTSTAMP:20260425T114105Z
SUMMARY:Pizza Throw Down Competition
DESCRIPTION:You and your partner in crime have just one objective: mak
 e the best pizza on the planet. Each duo will have a station set up wi
 th your very own cook top and a wide variety of ingredients. The only 
 thing you have to provide is a bit of creativity. Your entertaining ho
 st AND trained chef, Robert Weinberg, will be on hand to lend useful t
 ips and answer any questions groups may have as they cook. Chef Robert
  will show you how to make an amazing pizza crust and you'll take it f
 rom there. After teams present their creations to the judges and the w
 inners are decided, y'all will get to enjoy a sampling of everyone's c
 reations. This event includes 2 complimentary alcoholic beverages.\n\n
 For more information visit http://phillytodo.com/events/pizza-throw-do
 wn-competition
DTSTART:20150730T223000Z
DTEND:20150731T003000Z
CATEGORIES:cooking
LOCATION:MANNA
WEBSITE:https://www.zerve.com/phillyfoods/cooking
URL:https://www.zerve.com/phillyfoods/cooking
CONTACT:(800) 979-3370
ORGANIZER;CN="Robert Weinberg":http://phillytodo.com/profile/RobertWei
 nberg
ATTACH;FMTTYPE="image/jpeg":http://storage.ning.com/topology/rest/1.0/
 file/get/3054988552?profile=original
ATTENDEE;ROLE=REQ-PARTICIPANT;PARTSTAT=ACCEPTED;RSVP=TRUE;CN="Robert W
 einberg":http://phillytodo.com/profile/RobertWeinberg
END:VEVENT
END:VCALENDAR
