BEGIN:VCALENDAR
PRODID:NingEventWidget-v1
VERSION:2.0
METHOD:PUBLISH
BEGIN:VEVENT
UID:4320450:Event:54923
DTSTAMP:20260425T114226Z
SUMMARY:Pinot’s Palette Pop-Up
DESCRIPTION:On February 6, 2018 join the Market & Shops for a “Pinot
 s Palette Pop-Up.” Former Philadelphia Eagle’s player Tra Thomas &
  his wife Rosa will host a pop-up of their wine and paint store, Pinot
 s Palette. Guests will be able to make their very own Valentine’s Da
 y themed painting while sample local food from the Market and wines fr
 om Pinot’s Boutique!\nTickets are $5.00 and includes instruction and
  all materials needed. Guests must by 21 to attend. \nChoose from one
  of the following workshop times at check-out:\n\n5:00pm\n5:30pm\n6:00
 pm\n6:30pm\n\n\nFor more information visit http://phillytodo.com/event
 s/pinot-s-palette-pop-up
DTSTART:20180206T220000Z
DTEND:20180207T000000Z
CATEGORIES:wine, special, event, art
LOCATION:The Market &amp; Shops at the Comcast Center
WEBSITE:https://marketandshops.ticketleap.com/pinots-palette-pop-up/
URL:https://marketandshops.ticketleap.com/pinots-palette-pop-up/
CONTACT:
ORGANIZER;CN=CashmanAssoc:http://phillytodo.com/profile/CashmanAssoc
ATTACH;FMTTYPE="image/jpeg":http://storage.ning.com/topology/rest/1.0/
 file/get/3055010258?profile=original
ATTENDEE;ROLE=REQ-PARTICIPANT;PARTSTAT=ACCEPTED;RSVP=TRUE;CN=CashmanAs
 soc:http://phillytodo.com/profile/CashmanAssoc
END:VEVENT
END:VCALENDAR
