BEGIN:VCALENDAR
PRODID:NingEventWidget-v1
VERSION:2.0
METHOD:PUBLISH
BEGIN:VEVENT
UID:4320450:Event:18802
DTSTAMP:20260425T142655Z
SUMMARY:Pigtoberfest in Manayunk
DESCRIPTION:Get ready for the first annual Pigtoberfest in Manayunk pa
 rty! This Indoor/Outdoor Event features your First Drink Free, Live Mu
 sic, whole roasted pigs, amazing Oktoberfest Beers (5 great choices!),
  Oktoberfest food including Brats and Roast Pork Sandwiches, and OF CO
 URSE an after party inside The Ugly Moose toÂ watch the Phillies playo
 ff game!\nNow, ready for the GOOD part?Â Â RSVP on this websiteÂ (clic
 k \"rsvp here\" to the left or below) and UpcomingEvents.com will give
  you another Oktoberfest Beer -or- a brat/pork sandwichÂ FREE!Â Â How 
 is THAT for awesome?Â \nJust a $5 cover at the door.Â  SEE YOU THERE!Â
   Make sure all your friends RSVP as well to get the extra free beer o
 r food item.\n\nFor more information visit http://phillytodo.com/event
 s/pigtoberfest-in-manayunk
DTSTART:20111001T170000Z
DTEND:20111001T220000Z
CATEGORIES:drinking
LOCATION:The Ugly Moose
WEBSITE:http://www.UpcomingEvents.com/event/8745/philly1/
URL:http://www.UpcomingEvents.com/event/8745/philly1/
CONTACT:
ORGANIZER;CN="UpcomingEvents.com":http://phillytodo.com/profile/Upcomi
 ngEventscom
ATTACH;FMTTYPE="image/jpeg":
ATTENDEE;ROLE=REQ-PARTICIPANT;PARTSTAT=ACCEPTED;RSVP=TRUE;CN="Upcoming
 Events.com":http://phillytodo.com/profile/UpcomingEventscom
END:VEVENT
END:VCALENDAR
