BEGIN:VCALENDAR
PRODID:NingEventWidget-v1
VERSION:2.0
METHOD:PUBLISH
BEGIN:VEVENT
UID:4320450:Event:31894
DTSTAMP:20260425T160114Z
SUMMARY:PIFA Street Fair
DESCRIPTION:Marking the end of the 31 day Philadelphia International F
 estival of the Arts, (PIFA) this event is going to be ginormous & amaz
 ing.Â  From welding artists, to a T-rex wandering South Broad St, who 
 knows what else you might find.Â  With performances by various artists
  all day long, & food carts galore it is an event for any & everyone.Â
   See you there!\n\nFor more information visit http://phillytodo.com/e
 vents/pifa-street-fair
DTSTART:20130427T150000Z
DTEND:20130427T230000Z
CATEGORIES:street, fair
LOCATION:South Broad St (Chestnut-South)
WEBSITE:http://pifa.org/streetfair
URL:http://pifa.org/streetfair
CONTACT:
ORGANIZER;CN="Adam Rybarczyk @FoodPhreak":http://phillytodo.com/profil
 e/AdamRybarczyk
ATTACH;FMTTYPE="image/jpeg":
ATTENDEE;ROLE=REQ-PARTICIPANT;PARTSTAT=ACCEPTED;RSVP=TRUE;CN="Adam Ryb
 arczyk @FoodPhreak":http://phillytodo.com/profile/AdamRybarczyk
END:VEVENT
END:VCALENDAR
