BEGIN:VCALENDAR
PRODID:NingEventWidget-v1
VERSION:2.0
METHOD:PUBLISH
BEGIN:VEVENT
UID:4320450:Event:44973
DTSTAMP:20260425T173515Z
SUMMARY:PIFA Street Fair
DESCRIPTION:On April 23, 2016, Philadelphia International Festival of 
 the Arts' highly anticipated finale combines a fun-filled atmosphere w
 ith interactive elements. Throughout the nine blocks of Broad Street, 
 the PIFA Street Fair welcomes a wide variety of vendors, artisans, and
  exhibitors who fill the street while Philadelphians are captivated an
 d entertained by a variety of local and international street performer
 s, musicians, and family friendly programming. \n\nFor more informati
 on visit http://phillytodo.com/events/pifa-street-fair-1
DTSTART:20160423T150000Z
DTEND:20160423T230000Z
CATEGORIES:street, fair
LOCATION:Broad Street - Between Chestnut Street & Lombard Street
WEBSITE:http://pifa.org/street-fair/
URL:http://pifa.org/street-fair/
CONTACT:215.790.7175.
ORGANIZER;CN=CashmanAssoc:http://phillytodo.com/profile/CashmanAssoc
ATTACH;FMTTYPE="image/jpeg":
ATTENDEE;ROLE=REQ-PARTICIPANT;PARTSTAT=ACCEPTED;RSVP=TRUE;CN=CashmanAs
 soc:http://phillytodo.com/profile/CashmanAssoc
END:VEVENT
END:VCALENDAR
