BEGIN:VCALENDAR
PRODID:NingEventWidget-v1
VERSION:2.0
METHOD:PUBLISH
BEGIN:VEVENT
UID:4320450:Event:2176
DTSTAMP:20260425T124921Z
SUMMARY:Phriday Night Phever
DESCRIPTION:Every Friday night this fall McFadden's at Citizens Bank P
 ark and DJ Eddie Tully are proud to present South Philly's New Friday 
 Night!\n\nNo Cover. Outdoor Patio. Free Parking. Guest DJ's and Barten
 ders. Weekly Drink Specials.\n\nThis is sure to be the only place to b
 e in South Philly starting this fall EVERY FRIDAY NIGHT...game or no g
 ame. The biggest and best party comes to the largest corner bar in Sou
 th Philly.\n...\nThe hottest cast of bartender includes:\n\nMike Passi
 o, Megan Lane, Claudia Avicolli, Lauren Poppa, Jenn Coughlin, Mark Lig
 ambi, Mike Montecalvo, Nicole Malandro, Rachel Day, Margo Trovei, Ed H
 arder, Andy Sealy, Ryan Racan, Johnny Fish, Geaton Lucibello, Tara and
  Tracey Casolaro, Gianna Bonsera, Nigel, and many more...\n\nThis is I
 T! Surprises each week. The people, the place, the DJ, the dancing...T
 he Phever is contagious starting Friday Sept. 10th.\n\nHaving a Birthd
 ay, bring a large group, or celbrating a special event...email: natali
 e@mcfaddensballpark.com for a Happy Hour Party...mention Phriday Night
  Phever\n\nwww.djeddietully.com\n\n\nMcFadden's Ballpark\n\n\nFor more
  information visit http://phillytodo.com/events/phriday-night-phever
DTSTART:20100911T013000Z
DTEND:20100911T060000Z
CATEGORIES:"philly's", phriday, "night!!"
LOCATION:McFadden\"s @ Citizens Bank Park
WEBSITE:http://www.mcfaddensballpark.com
URL:http://www.mcfaddensballpark.com
CONTACT:215-952-0300
ORGANIZER:DJ Eddie Tully
ATTACH;FMTTYPE="image/jpeg":http://storage.ning.com/topology/rest/1.0/
 file/get/3054950889?profile=original
ATTENDEE;ROLE=REQ-PARTICIPANT;PARTSTAT=ACCEPTED;RSVP=TRUE;CN="Eddie Tu
 lly":http://phillytodo.com/profile/EddieTully508
END:VEVENT
END:VCALENDAR
