BEGIN:VCALENDAR
PRODID:NingEventWidget-v1
VERSION:2.0
METHOD:PUBLISH
BEGIN:VEVENT
UID:4320450:Event:38962
DTSTAMP:20260425T132726Z
SUMMARY:Photos with Santa on East Passyunk
DESCRIPTION:Forget the North Pole, Santa is heading South for the wint
 er! Jolly Old St. Nick will visit Alphabet Garden (1631 East Passyunk 
 Ave.) for a free photo sitting every Wednesday night (6-8pm) and Satur
 day afternoon (2-4pm) from December 3 through 20, 2014 as part of the 
 month-long “Deck the Ave” celebration on East Passyunk Avenue. Pur
 chase an optional photo package that will be printed on the spot or br
 ing your own camera to snap free pictures.  Bring Fido on Saturday, D
 ecember 13 (1-2pm) ONLY for a special pet photo sitting with Santa! Fo
 r more information and tickets, visit the events page at www.visiteast
 passyunk.com, call 215-336-1455 or tweet @EPassyunkAve.\n\nFor more in
 formation visit http://phillytodo.com/events/photos-with-santa-on-east
 -passyunk
DTSTART:20141203T230000Z
DTEND:20141221T010000Z
CATEGORIES:photos, with, santa
LOCATION:Alphabet Garden
WEBSITE:https://www.facebook.com/EPassyunkAve/events
URL:https://www.facebook.com/EPassyunkAve/events
CONTACT:
ORGANIZER;CN="Aversa PR & Events":http://phillytodo.com/profile/KoryAv
 ersa277
ATTACH;FMTTYPE="image/jpeg":http://storage.ning.com/topology/rest/1.0/
 file/get/3054981828?profile=original
ATTENDEE;ROLE=REQ-PARTICIPANT;PARTSTAT=ACCEPTED;RSVP=TRUE;CN="Aversa P
 R & Events":http://phillytodo.com/profile/KoryAversa277
END:VEVENT
END:VCALENDAR
