BEGIN:VCALENDAR
PRODID:NingEventWidget-v1
VERSION:2.0
METHOD:PUBLISH
BEGIN:VEVENT
UID:4320450:Event:35233
DTSTAMP:20260425T143838Z
SUMMARY:Photos with Santa on East Passyunk Avenue
DESCRIPTION:Forget the North Pole, Santa is heading South for the wi
 nter! Jolly Old St. Nick will visit Alphabet Garden (1631 East Passyun
 k Ave.) for a free sitting during East Passyunk Avenue’s Holiday Sec
 ond Saturday on December 14, 2013, between 1-3pm. Purchase an optional
  photo package that will be printed on the spot, or bring your own cam
 era to snap free pictures. Photos with Santa also run every Wednes
 day night (6-8pm) and Saturday (1-3pm) now through December 21st as pa
 rt of the month-long “Deck the Ave” celebration on East Passyunk A
 venue. On December 14th ONLY, we’ll host a special sitting for pets 
 between 11-1pm.  For more information, visit www.visiteastpassyunk.c
 om (events page), call 215-336-1455, follow @epassyunkave #DecktheAv
 e\n\nFor more information visit http://phillytodo.com/events/photos-wi
 th-santa-on-east-passyunk-avenue
DTSTART:20131214T180000Z
DTEND:20131214T200000Z
CATEGORIES:holiday, kids, photos, christmas, santa
LOCATION:Alphabet Garden
WEBSITE:http://www.visiteastpassyunk.com/events.htm
URL:http://www.visiteastpassyunk.com/events.htm
CONTACT:215-840-9216
ORGANIZER;CN="Aversa PR & Events":http://phillytodo.com/profile/KoryAv
 ersa277
ATTACH;FMTTYPE="image/jpeg":http://storage.ning.com/topology/rest/1.0/
 file/get/3054971213?profile=original
ATTENDEE;ROLE=REQ-PARTICIPANT;PARTSTAT=ACCEPTED;RSVP=TRUE;CN="Aversa P
 R & Events":http://phillytodo.com/profile/KoryAversa277
END:VEVENT
END:VCALENDAR
