BEGIN:VCALENDAR
PRODID:NingEventWidget-v1
VERSION:2.0
METHOD:PUBLISH
BEGIN:VEVENT
UID:4320450:Event:11703
DTSTAMP:20260425T172034Z
SUMMARY:#PhillyTweetUp @ Helium Comedy Club
DESCRIPTION:Hey, Philly!\nIt's time for another TweetUp! Join us for a
  drink at Helium Comedy Club and get a FREE TICKET to see Daily Show w
 riter, Paul Mecurio, perform onstage at 8pm.\n \nThis offer is part o
 f Center City Sips, so 21+ only please!\n\nFor more information visit 
 http://phillytodo.com/events/phillytweetup-helium-comedy
DTSTART:20110615T220000Z
DTEND:20110616T000000Z
CATEGORIES:tweetup
LOCATION:Helium Comedy Club
WEBSITE:http://twtvite.com/phillytweetup-helium
URL:http://twtvite.com/phillytweetup-helium
CONTACT:
ORGANIZER;CN="Mindy Yablonski":http://phillytodo.com/profile/MindyYabl
 onski
ATTACH;FMTTYPE="image/jpeg":http://storage.ning.com/topology/rest/1.0/
 file/get/3054957672?profile=original
ATTENDEE;ROLE=REQ-PARTICIPANT;PARTSTAT=ACCEPTED;RSVP=TRUE;CN="Mindy Ya
 blonski":http://phillytodo.com/profile/MindyYablonski
END:VEVENT
END:VCALENDAR
