BEGIN:VCALENDAR
PRODID:NingEventWidget-v1
VERSION:2.0
METHOD:PUBLISH
BEGIN:VEVENT
UID:4320450:Event:40567
DTSTAMP:20260425T124907Z
SUMMARY:Philly Tech Week Signature Event
DESCRIPTION: Come out to the annual premiere Philly Tech Week Signatu
 re Event, a cocktail reception meets an interactive local technology e
 xpo and demo party. This year's event will be held in the lobby and co
 ncourse of Comcast, the city's tallest building. This is a celebration
  of the broad Philadelphia technology community with all of Philly Tec
 h Week’s attendees, sponsors and organizers. Come for the networking
 , stay for the food, beer, video games, and photo booth party.\n\nFor 
 more information visit http://phillytodo.com/events/philly-tech-week-s
 ignature-event
DTSTART:20150424T233000Z
DTEND:20150425T020000Z
CATEGORIES:philly, tech, week, signature, event
LOCATION:Comcast Center
WEBSITE:http://2015.phillytechweek.com/events/philly_tech_week_signatu
 re_event
URL:http://2015.phillytechweek.com/events/philly_tech_week_signature_e
 vent
CONTACT:(215) 627-1060
ORGANIZER;CN=CashmanAssoc:http://phillytodo.com/profile/CashmanAssoc
ATTACH;FMTTYPE="image/jpeg":http://storage.ning.com/topology/rest/1.0/
 file/get/3054987288?profile=original
ATTENDEE;ROLE=REQ-PARTICIPANT;PARTSTAT=ACCEPTED;RSVP=TRUE;CN=CashmanAs
 soc:http://phillytodo.com/profile/CashmanAssoc
END:VEVENT
END:VCALENDAR
