BEGIN:VCALENDAR
PRODID:NingEventWidget-v1
VERSION:2.0
METHOD:PUBLISH
BEGIN:VEVENT
UID:4320450:Event:45518
DTSTAMP:20260425T125009Z
SUMMARY:Philly Tech Week Signature Event
DESCRIPTION:Come out to the annual premiere Philly Tech Week Signature
  Event, a cocktail reception meets an interactive local technology exp
 o and demo party. This is a celebration of the broad Philadelphia tech
 nology community with all of Philly Tech Week's attendees, sponsors an
 d organizers. Come for the networking, stay for the food, beer, video 
 games, photo booth and party!\n\nFor more information visit http://phi
 llytodo.com/events/philly-tech-week-signature-event-1
DTSTART:20160506T223000Z
DTEND:20160507T020000Z
CATEGORIES:philly, tech, week, event, cocktails
LOCATION:URBN
WEBSITE:http://2016.phillytechweek.com/events/philly_tech_week_signatu
 re_event
URL:http://2016.phillytechweek.com/events/philly_tech_week_signature_e
 vent
CONTACT:215-627-1060
ORGANIZER;CN=CashmanAssoc:http://phillytodo.com/profile/CashmanAssoc
ATTACH;FMTTYPE="image/jpeg":http://storage.ning.com/topology/rest/1.0/
 file/get/3054995457?profile=original
ATTENDEE;ROLE=REQ-PARTICIPANT;PARTSTAT=ACCEPTED;RSVP=TRUE;CN=CashmanAs
 soc:http://phillytodo.com/profile/CashmanAssoc
END:VEVENT
END:VCALENDAR
