BEGIN:VCALENDAR
PRODID:NingEventWidget-v1
VERSION:2.0
METHOD:PUBLISH
BEGIN:VEVENT
UID:4320450:Event:31321
DTSTAMP:20260425T142546Z
SUMMARY:Philly Spring Clean Up 2013
DESCRIPTION:Here's a great opportunity to give back to the Philly comm
 unity. Get out there, enjoy a nice spring day, meet some like-minded P
 hiladelphians who want to keep this place clean and get that fuzzy fee
 ling in your heart you get when you do some good in the world.\n\nFor 
 more information visit http://phillytodo.com/events/philly-spring-clea
 n-up-2013
DTSTART:20130413T130000Z
DTEND:20130413T180000Z
CATEGORIES:community, service
LOCATION:All over the city, literally.
WEBSITE:http://www.philadelphiastreets.com/ProjectGroup.aspx?code=340I
 57C4N56
URL:http://www.philadelphiastreets.com/ProjectGroup.aspx?code=340I57C4
 N56
CONTACT:215-686-5560
ORGANIZER;CN="Alex Muller @BrotherlyFood":http://phillytodo.com/profil
 e/AlexMuller
ATTACH;FMTTYPE="image/jpeg":http://storage.ning.com/topology/rest/1.0/
 file/get/3054963215?profile=original
ATTENDEE;ROLE=REQ-PARTICIPANT;PARTSTAT=ACCEPTED;RSVP=TRUE;CN="Alex Mul
 ler @BrotherlyFood":http://phillytodo.com/profile/AlexMuller
END:VEVENT
END:VCALENDAR
