BEGIN:VCALENDAR
PRODID:NingEventWidget-v1
VERSION:2.0
METHOD:PUBLISH
BEGIN:VEVENT
UID:4320450:Event:54783
DTSTAMP:20260425T100110Z
SUMMARY:Philly's Margarita Rmble
DESCRIPTION:After inaugural kickoffs in London & New York last year, C
 raft Hospitality is bringing the popular Margarita Rumble to Philly an
 d benefitting PAWS.  Join as 15 of the best bars and restaurants comp
 ete for the title of the Best Margarita in Philly. Dozens of mixologis
 ts will shake it up while you sample the best margaritas, and vote for
  your favorite! A DJ will keep you bamba'ing through the evening. Pa
 rtygoers have three afternoon sessions to choose from when buying VI
 P or general admission tickets. VIP admission means early access one h
 our before the fiesta really kicks off!\n\nFor more information visit 
 http://phillytodo.com/events/philly-s-margarita-rmble
DTSTART:20180428T160000Z
DTEND:20180429T004500Z
CATEGORIES:benefits, charity, event, festival, food, and, drink
LOCATION:The Piazza at Schmidt's Commons
WEBSITE:https://www.phillymargaritarumble.com/
URL:https://www.phillymargaritarumble.com/
CONTACT:267-969-5791
ORGANIZER;CN="Jenna Communications":http://phillytodo.com/profile/Jenn
 aCommunications
ATTACH;FMTTYPE="image/jpeg":http://storage.ning.com/topology/rest/1.0/
 file/get/3055010942?profile=original
ATTENDEE;ROLE=REQ-PARTICIPANT;PARTSTAT=ACCEPTED;RSVP=TRUE;CN="Jenna Co
 mmunications":http://phillytodo.com/profile/JennaCommunications
END:VEVENT
END:VCALENDAR
