BEGIN:VCALENDAR
PRODID:NingEventWidget-v1
VERSION:2.0
METHOD:PUBLISH
BEGIN:VEVENT
UID:4320450:Event:21302
DTSTAMP:20260425T191944Z
SUMMARY:Philly's Hottest New Years Eve DJ Dance Party at Tavern on Bro
 ad in The Bellevue
DESCRIPTION:If you are tired of the same old boring new years eve part
 ies with long lines for drink and food, watered-down bottom shelf drin
 ks, leaving you feel like you are at a high school prom, luck just cam
 e your way. DANCE will bring you the hottest social experience of the 
 year for area young professionals in their 20s. Put away the suit & ti
 e of that crazy work life and join us as we let loose. Multiple DJs, m
 ultiple party areas, VIP & table service to elevate you and your frien
 ds to a new level of VIP, professional dancers & performers, please mu
 ch more.  We WILL see out to 1200 people again this year - do not wai
 t to get tickets!\n \n\nFor more information visit http://phillytodo.
 com/events/philly-s-hottest-new-years-eve-dj-dance-party-at-tavern-on-
 broa-1
DTSTART:20120101T010000Z
DTEND:20120101T070000Z
CATEGORIES:holiday
LOCATION:Hyatt at the Bellevue
WEBSITE:http://www.nyephilly.com/tavern-on-broad/new-years-eve/ptodo/
URL:http://www.nyephilly.com/tavern-on-broad/new-years-eve/ptodo/
CONTACT:
ORGANIZER;CN="UpcomingEvents.com":http://phillytodo.com/profile/Upcomi
 ngEventscom
ATTACH;FMTTYPE="image/jpeg":
ATTENDEE;ROLE=REQ-PARTICIPANT;PARTSTAT=ACCEPTED;RSVP=TRUE;CN="Upcoming
 Events.com":http://phillytodo.com/profile/UpcomingEventscom
END:VEVENT
END:VCALENDAR
