BEGIN:VCALENDAR
PRODID:NingEventWidget-v1
VERSION:2.0
METHOD:PUBLISH
BEGIN:VEVENT
UID:4320450:Event:18915
DTSTAMP:20260425T144300Z
SUMMARY:Philly Off-Leash
DESCRIPTION:Enjoy drink specials, free appetizers, socializing, networ
 king with industry professionals, pet lovers, and animal welfare advoc
 ates.  Are you a pet owner? Rescue advocate? Professional in the pet i
 ndustry? Interested in becoming one or looking to get involved? Tap in
 to the power of “Philly Off Leash” and connect with like-minded pe
 ople. “Philly Off leash” events are open and even better – they 
 are FREE! It’s about an open exchange of ideas, networking, getting 
 to know others in the community and having fun! Come and learn about o
 ur featured charity, PHILADOPTABLES and our sponsor, LIBERTY CITY DOG 
 WALKERS!  I hope you can join us for “Philly Off Leash” and bring 
 a friend or two! Please RSVP on our Facebook Page, “Philly Off Leash
 ” so we can get an approximate head count. Hope to see you there!  N
 ote: Dogs are not permitted at this event, humans only.\n\nFor more in
 formation visit http://phillytodo.com/events/philly-off-leash
DTSTART:20111006T230000Z
DTEND:20111007T010000Z
CATEGORIES:happy, hour, fundraiser
LOCATION:Devil's Alley
WEBSITE:https://www.facebook.com/event.php?eid=199768490095899
URL:https://www.facebook.com/event.php?eid=199768490095899
CONTACT:215-900-2811
ORGANIZER;CN="The Philly Dog":http://phillytodo.com/profile/RebeccaBra
 glio
ATTACH;FMTTYPE="image/jpeg":
ATTENDEE;ROLE=REQ-PARTICIPANT;PARTSTAT=ACCEPTED;RSVP=TRUE;CN="The Phil
 ly Dog":http://phillytodo.com/profile/RebeccaBraglio
END:VEVENT
END:VCALENDAR
