BEGIN:VCALENDAR
PRODID:NingEventWidget-v1
VERSION:2.0
METHOD:PUBLISH
BEGIN:VEVENT
UID:4320450:Event:4067
DTSTAMP:20260425T142553Z
SUMMARY:philly model casting
DESCRIPTION:THIS WEDNESDAY\nFEBRUARY THE 9TH 2011\n\nRSVP HERE\n\nhttp
 ://www.facebook.com/event.php?eid=187654567926014\n\nMODEL CASTING\n\n
 Simply Avanguard Model Casting this Wednesday, February 2nd from 9pm-1
 2midnight at the Year of the Rabbit Dance Party.\n\nWe want new and pr
 ofessional models to give us your best runway walk, sign up for upcomi
 ng events and paid promotional work, and receive information about mod
 eling classes, photoshoot parties, and professional industry resources
 . Get connected, be the best you and let that diamond inside shine thr
 ough!\n\nLike & comment your RSVP...\nhttp://www.facebook.com/event.ph
 p?eid=147867281936468\n\nTime\nWednesday, February 2 at 9:00pm - 12mid
 night\n\nLocation\nLocation Kokopelli 1904 Chestnut St (btw 19 & 20St)
 \n\nFor more information visit http://phillytodo.com/events/philly-mod
 el-casting
DTSTART:20110210T020000Z
DTEND:20110210T070000Z
CATEGORIES:model, casthing, "/", runway, show, "/party"
LOCATION:kokopelli
WEBSITE:http://www.kokopelliphilly.com
URL:http://www.kokopelliphilly.com
CONTACT:
ORGANIZER:Global Influences
ATTACH;FMTTYPE="image/jpeg":http://storage.ning.com/topology/rest/1.0/
 file/get/3054953980?profile=original
ATTENDEE;ROLE=REQ-PARTICIPANT;PARTSTAT=ACCEPTED;RSVP=TRUE;CN="Venus 7 
 and Global Influences":http://phillytodo.com/profile/Venus7andGlobalIn
 fluences
END:VEVENT
END:VCALENDAR
