BEGIN:VCALENDAR
PRODID:NingEventWidget-v1
VERSION:2.0
METHOD:PUBLISH
BEGIN:VEVENT
UID:4320450:Event:22412
DTSTAMP:20260425T191957Z
SUMMARY:Philly Menswear Brand, 611 Lifestyle Hosts Holiday Pop-Up Shop
DESCRIPTION:Don’t miss this exclusive opportunity to join founder DJ
  Nigel Richards and The 611 Lifestyle for a weekend-long Pop-Up Shop a
 s they transform an empty space into a Center City gallery-style bouti
 que! Shop 611 Lifestyle’s fashion-forward Luxe Life and DJ Life appa
 rel and accessories collections as their online shop comes to life. Lo
 cal artwork will be featured among iconic 611 Records memorabilia, sig
 nature clothing and “DJ Life” inspiration. Take in the dance music
  culture of The 611 Lifestyle as you shop, and dance to the Philadelph
 ia-area‘s best DJs spinning live all weekend long.\nFor a preview of
  the fashions available at the 611 Lifestyle Pop Up Shop, TEXT: “611
 ” to 23000 to view the digital look book, visit www.611lifestyle.com
  or visit the “611 Records, The Lifestyle” page on Facebook.\n\nFo
 r more information visit http://phillytodo.com/events/philly-menswear-
 brand-611-lifestyle-hosts-holiday-pop-up-shop
DTSTART:20111216T160000Z
DTEND:20111218T230000Z
CATEGORIES:holiday, pop-up, shop
LOCATION:611 Holiday Pop-Up Shop
WEBSITE:http://611lifestyle.com/?page=news
URL:http://611lifestyle.com/?page=news
CONTACT:
ORGANIZER;CN="Becky L":http://phillytodo.com/profile/BeckyL
ATTACH;FMTTYPE="image/jpeg":http://storage.ning.com/topology/rest/1.0/
 file/get/3054954880?profile=original
ATTENDEE;ROLE=REQ-PARTICIPANT;PARTSTAT=ACCEPTED;RSVP=TRUE;CN="Becky L"
 :http://phillytodo.com/profile/BeckyL
END:VEVENT
END:VCALENDAR
