BEGIN:VCALENDAR
PRODID:NingEventWidget-v1
VERSION:2.0
METHOD:PUBLISH
BEGIN:VEVENT
UID:4320450:Event:39914
DTSTAMP:20260425T161737Z
SUMMARY:Philly Home Show
DESCRIPTION:\n\nThe Philadelphia Home Show, in its 34th year, is here 
 to inspire and provide ideas for anything and everything to do with yo
 ur home… From home improvement, design, remodeling, landscaping, ren
 ovation, upcycling and more, we’ve got you covered!Everything from h
 ot tubs, cookware, home décor, landscaping and furniture, over 500 ex
 perts are on the show floor and ready to assist you with all of your h
 ome project needs. The Philadelphia Home Show team selects only vendor
 s with the highest quality products and services to meet and exceed al
 l of your home improvement needs. They are here to give you the advice
  you have been looking for to create the home of your dreams.\n\nFrida
 y, January 23rd from 10am-9pm\nSaturday, January 24th from 10am-9pm\nS
 unday, January 25th from 10am-6pmPlease visit www.phillyhomeshow.com f
 or more information.\n\nFor more information visit http://phillytodo.c
 om/events/philly-home-show
DTSTART:20150123T150000Z
DTEND:20150126T020000Z
CATEGORIES:trade, show
LOCATION:Pennsylvania Convention Center
WEBSITE:http://www.phillyhomeshow.com
URL:http://www.phillyhomeshow.com
CONTACT:
ORGANIZER:Market Place Events
ATTACH;FMTTYPE="image/jpeg":
ATTENDEE;ROLE=REQ-PARTICIPANT;PARTSTAT=ACCEPTED;RSVP=TRUE;CN="Allie Pf
 ender":http://phillytodo.com/profile/AlliePfender
END:VEVENT
END:VCALENDAR
