BEGIN:VCALENDAR
PRODID:NingEventWidget-v1
VERSION:2.0
METHOD:PUBLISH
BEGIN:VEVENT
UID:4320450:Event:46625
DTSTAMP:20260425T144657Z
SUMMARY:Philly Fixers Repair Fair at Greensgrow
DESCRIPTION:Philly Fixers will be holding a Repair Fair at Greensgrow!
  The offer repair skills and education and promote resourcefulness in 
 our community.\n\nFor more information visit http://phillytodo.com/eve
 nts/philly-fixers-repair-fair-at-greensgrow
DTSTART:20161022T140000Z
DTEND:20161022T230000Z
CATEGORIES:repair, fair
LOCATION:Greensgrow Farm
WEBSITE:http://www.greensgrow.org/event/philly-fixers-repair-fair-at-g
 reensgrow-2/
URL:http://www.greensgrow.org/event/philly-fixers-repair-fair-at-green
 sgrow-2/
CONTACT:
ORGANIZER;CN="Greensgrow Farms":http://phillytodo.com/profile/Greensgr
 owFarms
ATTACH;FMTTYPE="image/jpeg":http://storage.ning.com/topology/rest/1.0/
 file/get/3054995869?profile=original
ATTENDEE;ROLE=REQ-PARTICIPANT;PARTSTAT=ACCEPTED;RSVP=TRUE;CN="Greensgr
 ow Farms":http://phillytodo.com/profile/GreensgrowFarms
END:VEVENT
END:VCALENDAR
