BEGIN:VCALENDAR
PRODID:NingEventWidget-v1
VERSION:2.0
METHOD:PUBLISH
BEGIN:VEVENT
UID:4320450:Event:55937
DTSTAMP:20260425T100115Z
SUMMARY:Philly Fights Cancer: Round 4
DESCRIPTION:Philly Fights Cancer: Round 4 will once again pack a punch
  on Saturday, November 10th at the Philadelphia Navy Yard. This year
 ’s event will feature a performance by comedy icon Jerry Seinfeld, 
 followed by a concert from internationally acclaimed Grammy-winning po
 p superstars Maroon 5. The signature fundraising event of Philly Figh
 ts Cancer stands out as one of the highlights of the Philadelphia soc
 ial season. This star-studded evening, which welcomes guests of all a
 ges, honors the doctors and physicians working to eradicate cancer by 
 showcasing the stories of survivors whose lives have been saved as a r
 esult of the groundbreaking medical advances of the Abramson Cancer Ce
 nter.\n \nThis year’s honorary physician will be Penn Medicine’s 
 Abramson Cancer Center researcher Dr. Carl June, the Richard W. Vague
  Professor in Immunotherapy. Dr. June was recently named to TIME Maga
 zine’s 2018 TIME 100 - its annual list of the 100 most influential
  people in the world - for his breakthrough CAR-T cell therapy. Last y
 ear, the FDA approved Kymriah™ (formerly CTL019) for pediatric leuke
 mia, and Dr. Carl June and colleagues at Penn continue to lead the imm
 unorevolution to expand this life-saving therapy to other cancers. The
  treatment has been deemed a “miracle drug,” and its approval was 
 referred to by the FDA as “historic action.” The New York Times ca
 lled it “a milestone that is expected to transform treatment.\"\n \
 nThis year’s honorary chair will be Sean Parker, Founder and Chairm
 an of the Parker Institute for Cancer Immunotherapy. The Institute was
  established in April 2016 through a grant from the Parker Foundation
 , which brought together 6 institutions across the United States aimed
  at accelerating the development of breakthrough immune therapies – 
 including a Penn Parker Institute.\nPhilly Fights Cancer: Round 3 rais
 ed $7 million, and was attended by over 1,700 donors, doctors, survivo
 rs, executives, and philanthropists, all of whom came together to cele
 brate the work of the Abramson Cancer Center. To date, Philly Fights C
 ancer has raised over $16 million.\n \nFor sponsorships: https://sec
 urelb.imodules.com/s/1587/gid2/wide_simple.aspx?sid=1587&gid=2&pgid=18
 886&cid=42539\n \n\nFor more information visit http://phillytodo.com/
 events/philly-fights-cancer-round-4
DTSTART:20181110T230000Z
DTEND:20181111T053000Z
CATEGORIES:fundraiser, charity
LOCATION:Philadelphia's Navy Yard
WEBSITE:http://phillyfightscancer.org/
URL:http://phillyfightscancer.org/
CONTACT:2156271060
ORGANIZER:The Abramson Cancer Center of The University of Pennsylvania
ATTACH;FMTTYPE="image/jpeg":http://storage.ning.com/topology/rest/1.0/
 file/get/3055014993?profile=original
ATTENDEE;ROLE=REQ-PARTICIPANT;PARTSTAT=ACCEPTED;RSVP=TRUE;CN=CashmanAs
 soc:http://phillytodo.com/profile/CashmanAssoc
END:VEVENT
END:VCALENDAR
