BEGIN:VCALENDAR
PRODID:NingEventWidget-v1
VERSION:2.0
METHOD:PUBLISH
BEGIN:VEVENT
UID:4320450:Event:37401
DTSTAMP:20260425T124905Z
SUMMARY:Philly Baseball Home Run Ticket Package
DESCRIPTION:Get your Philly Baseball Home Run Ticket Package for the u
 ltimate VIP experience as they take on the Nationals at 7:05pm!The Phi
 lly Baseball Home Run Ticket Package includes:- game ticket- 2 hour al
 l inclusive bar and buffet pregame (domestic drafts only)- FREE parkin
 g- wristbands for easy postgame entry to XFINITY Live! Philadelphia\n\
 nFor more information visit http://phillytodo.com/events/philly-baseba
 ll-home-run-ticket-package
DTSTART:20140711T210000Z
DTEND:20140711T230000Z
CATEGORIES:baseball, game, ticket, open, bar, buffet, free, parking
LOCATION:XFINITY Live! Philadelphia
WEBSITE:http://xfinitylive.com/entertainment/event/2390
URL:http://xfinitylive.com/entertainment/event/2390
CONTACT:215-609-1600
ORGANIZER;CN="XFINITY Live! Philadelphia":http://phillytodo.com/profil
 e/XFINITYLivePhiladelphia
ATTACH;FMTTYPE="image/jpeg":
ATTENDEE;ROLE=REQ-PARTICIPANT;PARTSTAT=ACCEPTED;RSVP=TRUE;CN="XFINITY 
 Live! Philadelphia":http://phillytodo.com/profile/XFINITYLivePhiladelp
 hia
END:VEVENT
END:VCALENDAR
