BEGIN:VCALENDAR
PRODID:NingEventWidget-v1
VERSION:2.0
METHOD:PUBLISH
BEGIN:VEVENT
UID:4320450:Event:36556
DTSTAMP:20260425T144323Z
SUMMARY:PHILLY ART CENTER WITH WEE WANDER HOST A SUMMER STUDIO SAMPLER
  AND SCAVANGER HUNT
DESCRIPTION:On May 10th from 2:30pm – 4:30pm, the Philly Art Center 
 will host an open house at the Queen Village Art Center in conjunction
  with Wee Wander, a parent's guide to navigating Philadelphia. This op
 en house will introduce the Art Center’s approach to summer learning
  and demonstrate the varied summer experiences they offer. \nExplorer
 s will enjoy a sampling of the creative fun with a wide range of proje
 cts set up for children to work on with their beloved adult.  Tweens,
  ages 9-13, can work on sewing machines or easels while children ages 
 4-8 create a range of exciting two and three dimensional projects. \n
 Open house attendees will also be able to meet the moms and minds behi
 nd Wee Wander, who will be providing additional fun filled activities 
 for children and adults alike.  \n\nFor more information visit http:
 //phillytodo.com/events/philly-art-center-with-wee-wander-host-a-summe
 r-studio-sampler
DTSTART:20140510T183000Z
DTEND:20140510T203000Z
CATEGORIES:art
LOCATION:Queen Village Art Center
WEBSITE:
URL:
CONTACT:2156257988
ORGANIZER;CN="Skai Blue Media":http://phillytodo.com/profile/SkaiBlueM
 edia
ATTACH;FMTTYPE="image/jpeg":http://storage.ning.com/topology/rest/1.0/
 file/get/3054974544?profile=original
ATTENDEE;ROLE=REQ-PARTICIPANT;PARTSTAT=ACCEPTED;RSVP=TRUE;CN="Skai Blu
 e Media":http://phillytodo.com/profile/SkaiBlueMedia
END:VEVENT
END:VCALENDAR
