BEGIN:VCALENDAR
PRODID:NingEventWidget-v1
VERSION:2.0
METHOD:PUBLISH
BEGIN:VEVENT
UID:4320450:Event:55934
DTSTAMP:20260425T112921Z
SUMMARY:Philly AIDS Thrift Lucky 13th Anniversary Block Party
DESCRIPTION:Philly AIDS Thrift is celebrating their 13th Year Annivers
 ary with an amazing, fun-filled Block Party! Spinning the hits all day
  is DJ Robert Drake along with a performance by Squidling Brothers and
  a special appearance by The Cheddar Boys. Activities include: celebri
 ty dunk tank with Stefanie Jolles and MacKenzie Moltov, a kids moon bo
 unce, face painting, carnival games, food trucks, a pie eating contest
  (MC’ed by CBS's Jim Donovan), dancing in the streets and so much mo
 re!\n\nFor more information visit http://phillytodo.com/events/philly-
 aids-thrift-lucky-13th-anniversary-block-party
DTSTART:20180922T160000Z
DTEND:20180922T220000Z
CATEGORIES:festival
LOCATION:Philly AIDS Thrift
WEBSITE:https://www.facebook.com/events/1087666141387730/
URL:https://www.facebook.com/events/1087666141387730/
CONTACT:2158678060
ORGANIZER;CN="Bryan Chan":http://phillytodo.com/profile/BryanChan
ATTACH;FMTTYPE="image/jpeg":http://storage.ning.com/topology/rest/1.0/
 file/get/3055014968?profile=original
ATTENDEE;ROLE=REQ-PARTICIPANT;PARTSTAT=ACCEPTED;RSVP=TRUE;CN="Bryan Ch
 an":http://phillytodo.com/profile/BryanChan
END:VEVENT
END:VCALENDAR
