BEGIN:VCALENDAR
PRODID:NingEventWidget-v1
VERSION:2.0
METHOD:PUBLISH
BEGIN:VEVENT
UID:4320450:Event:39714
DTSTAMP:20260425T125036Z
SUMMARY:Philly 0.0 Instant Gratification Race
DESCRIPTION:Join us for the new race coming to Philly on February 6th 
 that requires 0.0 miles of running!The Philly 0.0 Gratification Run wi
 ll be held by New Era Events. The cool part about this race - the star
 t and finish line are the same!You'll get whole deal - a start and fin
 ish line, entry bibs, awards, race t-shirts, except one exception: no 
 running. Run will start/finish at 7:30pm.Post race festivities will f
 ollow inside XFINITY Live!. Every runner will receive a free beer and 
 food to enjoy while you enjoy live bands and DJs. Live performances f
 rom Bryen O'Boyle from Mr. Greengenes and Bangarang. Registration is 
 $35 and a portion of the proceeds go to charity. \n\nFor more informa
 tion visit http://phillytodo.com/events/philly-0-0-instant-gratificati
 on-race
DTSTART:20150206T223000Z
DTEND:20150207T044500Z
CATEGORIES:running, special, event, fitness
LOCATION:XFINITY Live! Philadelphia
WEBSITE:http://www.xfinitylive.com/entertainment/event/3967
URL:http://www.xfinitylive.com/entertainment/event/3967
CONTACT:2674436415
ORGANIZER;CN="XFINITY Live! Philadelphia":http://phillytodo.com/profil
 e/XFINITYLivePhiladelphia
ATTACH;FMTTYPE="image/jpeg":http://storage.ning.com/topology/rest/1.0/
 file/get/3054985441?profile=original
ATTENDEE;ROLE=REQ-PARTICIPANT;PARTSTAT=ACCEPTED;RSVP=TRUE;CN="XFINITY 
 Live! Philadelphia":http://phillytodo.com/profile/XFINITYLivePhiladelp
 hia
END:VEVENT
END:VCALENDAR
