BEGIN:VCALENDAR
PRODID:NingEventWidget-v1
VERSION:2.0
METHOD:PUBLISH
BEGIN:VEVENT
UID:4320450:Event:7704
DTSTAMP:20260425T150204Z
SUMMARY:Phillies Opening Day at Davios
DESCRIPTION:Davio’s, Philadelphia’s favorite Northern Italian Stea
 khouse, is celebrating the start of the beloved Phillies baseball seas
 on by offering complimentary RowHouse Red beer, in partnership with th
 e Philadelphia Brewing Company, to all guests on opening day! The Phil
 lies, led by the four aces, Cliff Lee, Roy Halladay, Cole Hamels and R
 oy Oswalt, will take on the Houston Astros this April Fool’s Day. Bu
 t, don’t be fooled, Davio’s complimentary beer is not a joke! Join
  us at Davio’s on Friday, April 1st, 2011, from 11:30am to 11:00pm, 
 for complimentary beer during lunch and dinner or join us for happy ho
 ur!\n\nFor more information visit http://phillytodo.com/events/phillie
 s-opening-day-at-davios
DTSTART:20110401T150000Z
DTEND:20110402T033000Z
CATEGORIES:phillies, specials
LOCATION:Davio's Philadelphia
WEBSITE:
URL:
CONTACT:
ORGANIZER:Anny D
ATTACH;FMTTYPE="image/jpeg":http://storage.ning.com/topology/rest/1.0/
 file/get/3054954462?profile=original
ATTENDEE;ROLE=REQ-PARTICIPANT;PARTSTAT=ACCEPTED;RSVP=TRUE;CN="Juliette
  V":http://phillytodo.com/profile/JulietteV
END:VEVENT
END:VCALENDAR
