BEGIN:VCALENDAR
PRODID:NingEventWidget-v1
VERSION:2.0
METHOD:PUBLISH
BEGIN:VEVENT
UID:4320450:Event:888
DTSTAMP:20260425T185625Z
SUMMARY:Philadelphia Youth Orchestra
DESCRIPTION:Join young musicians ranging in ages from 6 to 18 for the 
 first PRYSM performances of Philadelphia Youth Orchestra's 70th Annive
 rsary Season. Program includes Korsakov's Russian Easter Overture, Bra
 hms' Hungarian Dance No. 5, and Saint-Saëns' Danse Bacchanale. Conduc
 tors: Wiliam dePasquale, PRYSM; and Sarah Sutton, PRYSM Young Artists.
  Tickets: $15 for adults, $10 for students (ages 6 – 17) and seniors
 ; free for children 5 and younger.\n\nFor more information visit http:
 //phillytodo.com/events/philadelphia-youth-orchestra
DTSTART:20100123T210000Z
DTEND:20100123T230000Z
CATEGORIES:music, concert
LOCATION:St. Mary's Hall Villanova University
WEBSITE:http://www.pyos.org
URL:http://www.pyos.org
CONTACT:215.545.0502
ORGANIZER:Kristen Insalaco
ATTACH;FMTTYPE="image/jpeg":
ATTENDEE;ROLE=REQ-PARTICIPANT;PARTSTAT=ACCEPTED;RSVP=TRUE;CN="Amanda K
 aster":http://phillytodo.com/profile/AmandaKaster
END:VEVENT
END:VCALENDAR
