BEGIN:VCALENDAR
PRODID:NingEventWidget-v1
VERSION:2.0
METHOD:PUBLISH
BEGIN:VEVENT
UID:4320450:Event:1367
DTSTAMP:20260425T144407Z
SUMMARY:Philadelphia Youth Orchestra
DESCRIPTION:On Sunday, May 2, 2010 at 3:00 p.m., the Philadelphia Yout
 h Orchestra will perform at the Lively Arts Series at Montgomery Count
 y Community College. Joining the orchestra on stage at the Science Cen
 ter Theatre, (340 DeKalb Pike, Blue Bell) is the internationally recog
 nized Choral Society of Montgomery County. Admission is $18 and includ
 es reserved seating, $10 for senior citizens and students and $5 for c
 hildren under 12. For more information or to purchase tickets, please 
 call 215.641.6518 or visit www.pyos.org.\n\nFor more information visit
  http://phillytodo.com/events/philadelphia-youth-orchestra-6
DTSTART:20100502T190000Z
DTEND:20100502T203000Z
CATEGORIES:concert
LOCATION:Montgomery County Community College's Science Center Theatre
WEBSITE:
URL:
CONTACT:
ORGANIZER;CN="Amanda Kaster":http://phillytodo.com/profile/AmandaKaste
 r
ATTACH;FMTTYPE="image/jpeg":http://storage.ning.com/topology/rest/1.0/
 file/get/3054943187?profile=original
ATTENDEE;ROLE=REQ-PARTICIPANT;PARTSTAT=ACCEPTED;RSVP=TRUE;CN="Amanda K
 aster":http://phillytodo.com/profile/AmandaKaster
END:VEVENT
END:VCALENDAR
