BEGIN:VCALENDAR
PRODID:NingEventWidget-v1
VERSION:2.0
METHOD:PUBLISH
BEGIN:VEVENT
UID:4320450:Event:1217
DTSTAMP:20260425T160903Z
SUMMARY:Philadelphia Youth Orchestra
DESCRIPTION:On Sunday, April 11 at 7:30 p.m. the Philadelphia Youth Or
 chestra will perform for its second time during this year’s 70th ann
 iversary celebration at the Kimmel Center’s Verizon Hall. Joining th
 e orchestra during this performance is the internationally recognized 
 Choral Society of Montgomery County. Admission is $16-30 and subject t
 o change. For more information and to purchase tickets for the event, 
 please call 215.893.1999 or visit www.pyos.org.\n\nFor more informatio
 n visit http://phillytodo.com/events/philadelphia-youth-orchestra-5
DTSTART:20100411T233000Z
DTEND:20100412T010000Z
CATEGORIES:concert
LOCATION:Kimmel Center's Verizon Hall
WEBSITE:
URL:
CONTACT:
ORGANIZER;CN="Amanda Kaster":http://phillytodo.com/profile/AmandaKaste
 r
ATTACH;FMTTYPE="image/jpeg":http://storage.ning.com/topology/rest/1.0/
 file/get/3054943187?profile=original
ATTENDEE;ROLE=REQ-PARTICIPANT;PARTSTAT=ACCEPTED;RSVP=TRUE;CN="Amanda K
 aster":http://phillytodo.com/profile/AmandaKaster
END:VEVENT
END:VCALENDAR
