BEGIN:VCALENDAR
PRODID:NingEventWidget-v1
VERSION:2.0
METHOD:PUBLISH
BEGIN:VEVENT
UID:4320450:Event:1089
DTSTAMP:20260425T144411Z
SUMMARY:Philadelphia Youth Orchestra
DESCRIPTION:On Sunday, March 7, 2010 at 3:00 p.m. the Philadelphia You
 th Orchestra’s, Young Artist Orchestra will take the stage during th
 e Lively Arts Series at Montgomery County Community College (340 Dekal
 b Pike, Blue Bell, Pa). Conducted by Louis Scaglione, the Young Artist
 s Orchestra will perform classical compositions from Rossini, Haydn, M
 ozart and Schumann. Tickets are $10 general admission. For more inform
 ation about this concert call 215.641.6518 or visit www.pyos.org\n\nFo
 r more information visit http://phillytodo.com/events/philadelphia-you
 th-orchestra-4
DTSTART:20100307T200000Z
DTEND:20100307T220000Z
CATEGORIES:concert
LOCATION:Montgomery County Community College
WEBSITE:
URL:
CONTACT:
ORGANIZER;CN="Amanda Kaster":http://phillytodo.com/profile/AmandaKaste
 r
ATTACH;FMTTYPE="image/jpeg":http://storage.ning.com/topology/rest/1.0/
 file/get/3054943187?profile=original
ATTENDEE;ROLE=REQ-PARTICIPANT;PARTSTAT=ACCEPTED;RSVP=TRUE;CN="Amanda K
 aster":http://phillytodo.com/profile/AmandaKaster
END:VEVENT
END:VCALENDAR
