BEGIN:VCALENDAR
PRODID:NingEventWidget-v1
VERSION:2.0
METHOD:PUBLISH
BEGIN:VEVENT
UID:4320450:Event:981
DTSTAMP:20260425T125925Z
SUMMARY:Philadelphia Youth Orchestra
DESCRIPTION:Don’t miss a special Valentine’s Day performance by th
 e Philadelphia Youth Orchestra on Sunday, February 14, 2010 at 7:30 p.
 m. at the Kimmel Center’s Verizon Hall. This concert welcomes back v
 iolin virtuoso and PYO alumna who performs in partnership with the leg
 endary 1720 “Red” Stradivarius Elizabeth Pitcairn for an unforgett
 able collaboration. Tickets: $16-30 available at ticketphiladelphia.or
 g or by calling 215-893-1999. For more info about PYO, visit pyos.org.
 \n\nFor more information visit http://phillytodo.com/events/philadelph
 ia-youth-orchestra-3
DTSTART:20100215T003000Z
DTEND:20100215T030000Z
CATEGORIES:music, concert
LOCATION:Kimmel Center's Verizon Hall
WEBSITE:http://www.kimmelcenter.org
URL:http://www.kimmelcenter.org
CONTACT:
ORGANIZER;CN="Amanda Kaster":http://phillytodo.com/profile/AmandaKaste
 r
ATTACH;FMTTYPE="image/jpeg":http://storage.ning.com/topology/rest/1.0/
 file/get/3054943187?profile=original
ATTENDEE;ROLE=REQ-PARTICIPANT;PARTSTAT=ACCEPTED;RSVP=TRUE;CN="Amanda K
 aster":http://phillytodo.com/profile/AmandaKaster
END:VEVENT
END:VCALENDAR
