BEGIN:VCALENDAR
PRODID:NingEventWidget-v1
VERSION:2.0
METHOD:PUBLISH
BEGIN:VEVENT
UID:4320450:Event:909
DTSTAMP:20260425T144406Z
SUMMARY:Philadelphia Youth Orchestra
DESCRIPTION:Families can enjoy a free performance of string music of s
 tudents ages 10-18 in Musicopia String Orchestra on Saturday, January 
 30, 2010 at 4:00 p.m. The orchestra will be accompanied during select 
 performances by Clara Rottsolk, soprano. Program includes Prokofiev's 
 Troika from Lieutenant Kije, Handel's Gloria in Excelsis Deo, and Viva
 ldi's Concerto Grosso in D Minor. Conductor: Daniela Pierson. Informat
 ion: 215-829-9522 Ext. 16. Web: www.pyos.org.\n\nFor more information 
 visit http://phillytodo.com/events/philadelphia-youth-orchestra-1
DTSTART:20100130T210000Z
DTEND:20100130T230000Z
CATEGORIES:music, concert
LOCATION:First Prysbeterian Church
WEBSITE:
URL:
CONTACT:215-829-9522
ORGANIZER;CN="Amanda Kaster":http://phillytodo.com/profile/AmandaKaste
 r
ATTACH;FMTTYPE="image/jpeg":http://storage.ning.com/topology/rest/1.0/
 file/get/3054943187?profile=original
ATTENDEE;ROLE=REQ-PARTICIPANT;PARTSTAT=ACCEPTED;RSVP=TRUE;CN="Amanda K
 aster":http://phillytodo.com/profile/AmandaKaster
END:VEVENT
END:VCALENDAR
