BEGIN:VCALENDAR
PRODID:NingEventWidget-v1
VERSION:2.0
METHOD:PUBLISH
BEGIN:VEVENT
UID:4320450:Event:170732
DTSTAMP:20260425T112522Z
SUMMARY:Philadelphia Welsh Week
DESCRIPTION:There’s a warm welcome for everyone at Philadelphia Wels
 h Week, Aug 27 - Sep 4, a celebration of three centuries of the rich W
 elsh history in Philadelphia, including music, film, seminars, books, 
 genealogy, language, and history. The Welsh are world-famous for their
  singing and two concerts of Welsh music will take place at The Kimmel
  Center for the Performing Arts - a traditional male voice choir and 
 a concert of contemporary Welsh music. The Doubletree Hotel will host 
 screenings, seminars, theatre, a Penderyn Welsh Whisky Masterclass, a
 nd an opportunity to buy Welsh crafts and enjoy delicious Welsh cakes 
 and tea. Wales salutes Ukraine at a free screening of the biographical
  thriller movie Mr. Jones at the Philadelphia Film Center while histor
 y meets family fun at Fort Mifflin Welsh Tract Day. Several bars and r
 estaurants in Philadelphia will serve Welsh dishes and cocktails durin
 g the week and Barnes and Noble will feature a display of Welsh books.
  The festival closes with Welsh hymn-singing at its finest at the Chur
 ch of the Redeemer in Bryn Mawr. A full list of events and activities 
 including both free and ticketed events is available at www.philawels
 hweek.org.\n\nFor more information visit http://phillytodo.com/events/
 philadelphia-welsh-week
DTSTART:20220827T040000Z
DTEND:20220905T035900Z
CATEGORIES:festival
LOCATION:Philadelphia
WEBSITE:http://www.philawelshweek.org
URL:http://www.philawelshweek.org
CONTACT:
ORGANIZER:Philadelphia Welsh Week
ATTACH;FMTTYPE="image/jpeg":https://storage.ning.com/topology/rest/1.0
 /file/get/10530621469?profile=original
ATTENDEE;ROLE=REQ-PARTICIPANT;PARTSTAT=ACCEPTED;RSVP=TRUE;CN="Paige Wo
 lf":http://phillytodo.com/profile/PaigeWolf
END:VEVENT
END:VCALENDAR
