BEGIN:VCALENDAR
PRODID:NingEventWidget-v1
VERSION:2.0
METHOD:PUBLISH
BEGIN:VEVENT
UID:4320450:Event:25709
DTSTAMP:20260425T144548Z
SUMMARY:Philadelphia's Sensational Bravissimo Burlesque presents March
  Marvels!
DESCRIPTION:Philadelphia's Sensational Bravissimo Burlesque presents M
 arch Marvels! An Evening full of big city dames, a rhinestoned randy m
 an, and more T-n-A than you can shake a stick at!\nHosting the evening
  is the Peek-a-Boo Revue's Emcee Extraordinaire, JOEY MARTINI!\nComing
  all the way from her Detroit home producing the Candy Cabaret in Detr
 oit, it's the Debut of that Ukulele toting Clownlesque Faerie Goddess,
  HAYLEY JANE!\nTraveling from her gaming kingdom to make her Bravissim
 o Debut, it's D20 Burlesque producer, ANJA KEISTER!\nAnd as always, th
 e night holds special acts from The Flower you'd Love to Pluck MISS RO
 SE and The Criminally Cute LIL' STEPH!!!\nGet there early to grab a dr
 ink and seat, stay late to party with the Bravissimo crew! Only $10 fo
 r some of the best entertainment this city has to offer! Presented by 
 your favorite little ladies, Miss Rose and Lil' Steph!\n\nFor more inf
 ormation visit http://phillytodo.com/events/philadelphia-s-sensational
 -bravissimo-burlesque-presents-march
DTSTART:20120401T020000Z
DTEND:20120401T050000Z
CATEGORIES:burlesque, show
LOCATION:WineO
WEBSITE:http://www.lilsteph.com
URL:http://www.lilsteph.com
CONTACT:
ORGANIZER;CN="Lil' Steph":http://phillytodo.com/profile/LilSteph
ATTACH;FMTTYPE="image/jpeg":http://storage.ning.com/topology/rest/1.0/
 file/get/3054958009?profile=original
ATTENDEE;ROLE=REQ-PARTICIPANT;PARTSTAT=ACCEPTED;RSVP=TRUE;CN="Lil' Ste
 ph":http://phillytodo.com/profile/LilSteph
END:VEVENT
END:VCALENDAR
