BEGIN:VCALENDAR
PRODID:NingEventWidget-v1
VERSION:2.0
METHOD:PUBLISH
BEGIN:VEVENT
UID:4320450:Event:2681
DTSTAMP:20260425T161244Z
SUMMARY:Philadelphia Fashion Week Kick Off Party
DESCRIPTION:Valanni's fourth annual fashion show will feature the hott
 est trends of 1950's Glamour, Chic, Martinis 4 different photographers
  on the scene...Confrontational Clothing will be having giveaways !!! 
 This event will reach capacity so make sure to RSVP !\n\nIf you call V
 alanni just mention Confrontational Clothing\n\nFor more information v
 isit http://phillytodo.com/events/philadelphia-fashion-week-kick
DTSTART:20101006T020000Z
DTEND:20101006T060000Z
CATEGORIES:fashion
LOCATION:Valanni
WEBSITE:http://www.Valanni.com
URL:http://www.Valanni.com
CONTACT:215-790-9494
ORGANIZER;CN="Confrontational Clothing":http://phillytodo.com/profile/
 ConfrontationalClothing
ATTACH;FMTTYPE="image/jpeg":http://storage.ning.com/topology/rest/1.0/
 file/get/3054950629?profile=original
ATTENDEE;ROLE=REQ-PARTICIPANT;PARTSTAT=ACCEPTED;RSVP=TRUE;CN="Confront
 ational Clothing":http://phillytodo.com/profile/ConfrontationalClothin
 g
END:VEVENT
END:VCALENDAR
