BEGIN:VCALENDAR
PRODID:NingEventWidget-v1
VERSION:2.0
METHOD:PUBLISH
BEGIN:VEVENT
UID:4320450:Event:45303
DTSTAMP:20260425T163449Z
SUMMARY:Philadelphia Fashion Incubator presents Teri Agins' Hijacking 
 the Runway
DESCRIPTION:Join Teri Agins as she presents the impact of celebrity cu
 lture in fashion followed by a Q&A led by Elizabeth Wellington. Books 
 will be available for purchase and autograph.\n\nFor more information 
 visit http://phillytodo.com/events/philadelphia-fashion-incubator-pres
 ents-teri-agins-hijacking-the
DTSTART:20160421T220000Z
DTEND:20160422T000000Z
CATEGORIES:fashion, literature
LOCATION:Moore College of Art and Design
WEBSITE:https://www.eventbrite.com/e/philadelphia-fashion-incubator-pr
 esents-teri-agins-hijacking-the-runway-tickets-23316627661?aff=utm_sou
 rce%3Deb_email%26utm_medium%3Demail%26utm_campaign%3Dnew_event_email&u
 tm_term=eventurl_text
URL:https://www.eventbrite.com/e/philadelphia-fashion-incubator-presen
 ts-teri-agins-hijacking-the-runway-tickets-23316627661?aff=utm_source%
 3Deb_email%26utm_medium%3Demail%26utm_campaign%3Dnew_event_email&utm_t
 erm=eventurl_text
CONTACT:
ORGANIZER;CN=CashmanAssoc:http://phillytodo.com/profile/CashmanAssoc
ATTACH;FMTTYPE="image/jpeg":
ATTENDEE;ROLE=REQ-PARTICIPANT;PARTSTAT=ACCEPTED;RSVP=TRUE;CN=CashmanAs
 soc:http://phillytodo.com/profile/CashmanAssoc
END:VEVENT
END:VCALENDAR
